BEGIN:VCALENDAR
VERSION:2.0
PRODID:-//Texas Light Infantry - ECPv6.15.20//NONSGML v1.0//EN
CALSCALE:GREGORIAN
METHOD:PUBLISH
X-WR-CALNAME:Texas Light Infantry
X-ORIGINAL-URL:https://texaslightinfantry.com
X-WR-CALDESC:Events for Texas Light Infantry
REFRESH-INTERVAL;VALUE=DURATION:PT1H
X-Robots-Tag:noindex
X-PUBLISHED-TTL:PT1H
BEGIN:VTIMEZONE
TZID:America/Denver
BEGIN:DAYLIGHT
TZOFFSETFROM:-0700
TZOFFSETTO:-0600
TZNAME:MDT
DTSTART:20250309T090000
END:DAYLIGHT
BEGIN:STANDARD
TZOFFSETFROM:-0600
TZOFFSETTO:-0700
TZNAME:MST
DTSTART:20251102T080000
END:STANDARD
BEGIN:DAYLIGHT
TZOFFSETFROM:-0700
TZOFFSETTO:-0600
TZNAME:MDT
DTSTART:20260308T090000
END:DAYLIGHT
BEGIN:STANDARD
TZOFFSETFROM:-0600
TZOFFSETTO:-0700
TZNAME:MST
DTSTART:20261101T080000
END:STANDARD
BEGIN:DAYLIGHT
TZOFFSETFROM:-0700
TZOFFSETTO:-0600
TZNAME:MDT
DTSTART:20270314T090000
END:DAYLIGHT
BEGIN:STANDARD
TZOFFSETFROM:-0600
TZOFFSETTO:-0700
TZNAME:MST
DTSTART:20271107T080000
END:STANDARD
END:VTIMEZONE
BEGIN:VEVENT
DTSTART;VALUE=DATE:20260502
DTEND;VALUE=DATE:20260503
DTSTAMP:20260421T153446
CREATED:20260421T191548Z
LAST-MODIFIED:20260421T191548Z
UID:3236-1777680000-1777766399@texaslightinfantry.com
SUMMARY:Battle Ratz Pole Pen 262
DESCRIPTION:
URL:https://texaslightinfantry.com/event/battle-ratz-pole-pen-262/
LOCATION:Pole Pen\, 2895 County Road 324\, Cherokee\, Texas\, 76877
END:VEVENT
BEGIN:VEVENT
DTSTART;TZID=America/Denver:20260516T070000
DTEND;TZID=America/Denver:20260517T190000
DTSTAMP:20260421T153446
CREATED:20260421T185807Z
LAST-MODIFIED:20260421T185807Z
UID:3231-1778914800-1779044400@texaslightinfantry.com
SUMMARY:OED 2026 Venado Springs Ranch Tactical Biathlon Sponsored by GOON TAPE!
DESCRIPTION:
URL:https://texaslightinfantry.com/event/oed-2026-venado-springs-ranch-tactical-biathlon-sponsored-by-goon-tape/
LOCATION:Venado Springs Ranch\, 4149 Farm To Market Rd 1077\, Bandera\, Texas\, 78003
END:VEVENT
END:VCALENDAR